BEGIN:VCALENDAR
VERSION:2.0
PRODID:-//https://www.sv-06-lehrte.de//NONSGML kigkonsult.se iCalcreator 2.41.71//
CALSCALE:GREGORIAN
METHOD:PUBLISH
UID:31623762-3837-4237-b966-303930366666
X-WR-CALNAME:JCal Pro Kalender
X-WR-CALDESC:Ihr Online-Terminkalender
X-WR-TIMEZONE:Europe/Berlin
BEGIN:VTIMEZONE
TZID:Europe/Berlin
TZUNTIL:20271031T010000Z
BEGIN:STANDARD
TZNAME:CET
DTSTART:20251026T030000
TZOFFSETFROM:+0200
TZOFFSETTO:+0100
RDATE:20261025T030000
END:STANDARD
BEGIN:DAYLIGHT
TZNAME:CEST
DTSTART:20260329T020000
TZOFFSETFROM:+0100
TZOFFSETTO:+0200
RDATE:20270328T020000
END:DAYLIGHT
END:VTIMEZONE
BEGIN:VEVENT
UID:20240816T100000CEST-2075Iu9N9S@https://www.sv-06-lehrte.de/
DTSTAMP:20260424T165203Z
CATEGORIES:Veranstaltungen des SV 06 Lehrte
DTSTART;TZID=Europe/Berlin:20240817T180000
DTEND;TZID=Europe/Berlin:20240817T180000
SUMMARY:Schlager-Open-Air am Vereinsheim SV 06 Lehrte mit Anna-Maria Zimmer
 mann und Mickie Krause
URL:https://www.sv-06-lehrte.de/veranstaltungen/254-veranstaltungen-des-sv-
 06-lehrte/82-schlager-open-air-am-vereinsheim-sv-06-lehrte-mit-anna-maria-
 zimmermann-und-mickie-krause.html
END:VEVENT
END:VCALENDAR
